BEGIN:VCALENDAR
VERSION:2.0
PRODID:-//CENTRE  MULTIFONCTIONNEL DE BEPANDA - ECPv6.5.1.5//NONSGML v1.0//EN
CALSCALE:GREGORIAN
METHOD:PUBLISH
X-WR-CALNAME:CENTRE  MULTIFONCTIONNEL DE BEPANDA
X-ORIGINAL-URL:https://cmb-douala.org
X-WR-CALDESC:évènements pour CENTRE  MULTIFONCTIONNEL DE BEPANDA
REFRESH-INTERVAL;VALUE=DURATION:PT1H
X-Robots-Tag:noindex
X-PUBLISHED-TTL:PT1H
BEGIN:VTIMEZONE
TZID:Europe/Paris
BEGIN:DAYLIGHT
TZOFFSETFROM:+0100
TZOFFSETTO:+0200
TZNAME:CEST
DTSTART:20240331T010000
END:DAYLIGHT
BEGIN:STANDARD
TZOFFSETFROM:+0200
TZOFFSETTO:+0100
TZNAME:CET
DTSTART:20241027T010000
END:STANDARD
BEGIN:DAYLIGHT
TZOFFSETFROM:+0100
TZOFFSETTO:+0200
TZNAME:CEST
DTSTART:20250330T010000
END:DAYLIGHT
BEGIN:STANDARD
TZOFFSETFROM:+0200
TZOFFSETTO:+0100
TZNAME:CET
DTSTART:20251026T010000
END:STANDARD
END:VTIMEZONE
BEGIN:VEVENT
DTSTART;VALUE=DATE:20240926
DTEND;VALUE=DATE:20250227
DTSTAMP:20260424T183539
CREATED:20240918T000627Z
LAST-MODIFIED:20240918T000627Z
UID:17667-1727308800-1740614399@cmb-douala.org
SUMMARY:Bientôt\, la rentrée de la prochaine session de formation\, profitez de cette opportunité pour apprendre un métier
DESCRIPTION:Les inscriptions sont déjà en cours pour la prochaine session de formation….quel atelier t’ interesse?\n\n\nAssistant-cuisinier\, coiffeur( se)\, peintre\, agriculteur urbain\,etc.\n\n\n#formation #cmb #centre #Multifonctionnel #bepanda #douala #dons #santémentale #mentale #personnes #vulnérables #vacances #activités #enfants
URL:https://cmb-douala.org/event/bientot-la-rentree-de-la-prochaine-session-de-formation-profitez-de-cette-opportunite-pour-apprendre-un-metier/
CATEGORIES:Children,Donation,Education,Formation,Health,Helping,Vaccine
ATTACH;FMTTYPE=image/jpeg:https://cmb-douala.org/wp-content/uploads/2024/09/4hg-Re4covered.jpg
END:VEVENT
END:VCALENDAR